BEGIN:VCALENDAR
CALSCALE:GREGORIAN
X-WR-TIMEZONE;VALUE=TEXT:GMT
PRODID:PEAK Corporation - piCal -
X-WR-CALNAME;VALUE=TEXT:§g¤l­¹µL¨D¹¡¡A©~µL¨D¦w¡A±Ó©ó¨Æ¦Ó·V©ó¨¥¡A´N¦³¹D¦Ó¥¿²j¡A¥i¿×¦n¾Ç¤]¤w¡C
VERSION:2.0
METHOD:PUBLISH
BEGIN:VTIMEZONE
TZID:GMT
BEGIN:STANDARD
DTSTART:19390101T000000
TZOFFSETFROM:+0000
TZOFFSETTO:+0000
TZNAME:GMT
END:STANDARD
END:VTIMEZONE
BEGIN:VEVENT
DTSTART;VALUE=DATE:20081117
DTEND;VALUE=DATE:20081118
LOCATION:
TRANSP:OPAQUE
SEQUENCE:1
UID:pical060-564e7626c494348551132a9b819b4e68
DTSTAMP:20080327T115008Z
CATEGORIES:
DESCRIPTION:
SUMMARY:§g¤l­¹µL¨D¹¡¡A©~µL¨D¦w¡A±Ó©ó¨Æ¦Ó·V©ó¨¥¡A´N¦³¹D¦Ó¥¿²j¡A¥i¿×¦n¾Ç¤]¤w¡C
RRULE:FREQ=YEARLY;INTERVAL=1;BYMONTH=11;WKST=SU
PRIORITY:0
CLASS:PUBLIC
END:VEVENT
END:VCALENDAR
