BEGIN:VCALENDAR
CALSCALE:GREGORIAN
X-WR-TIMEZONE;VALUE=TEXT:GMT
PRODID:PEAK Corporation - piCal -
X-WR-CALNAME;VALUE=TEXT:®¦«Ý§O¤H¡A¥²µM¤ß¦s¤¯·O¡F¨ã³Æ¤º¦bªº®®¼Ö¤§·½¡A¤~¯à°÷»P¤H¬°¡Cµ½¡A©¯ºÖ¤£«Ý¥~¨D¡A·í¤U§Y¥i¦Û¨¬¶êº¡¡C
VERSION:2.0
METHOD:PUBLISH
BEGIN:VTIMEZONE
TZID:GMT
BEGIN:STANDARD
DTSTART:19390101T000000
TZOFFSETFROM:+0000
TZOFFSETTO:+0000
TZNAME:GMT
END:STANDARD
END:VTIMEZONE
BEGIN:VEVENT
DTSTART;VALUE=DATE:20081124
DTEND;VALUE=DATE:20081125
LOCATION:
TRANSP:OPAQUE
SEQUENCE:1
UID:pical060-32d0df27a91fd5801e52a0be9709bf40
DTSTAMP:20080327T115138Z
CATEGORIES:
DESCRIPTION:
SUMMARY:®¦«Ý§O¤H¡A¥²µM¤ß¦s¤¯·O¡F¨ã³Æ¤º¦bªº®®¼Ö¤§·½¡A¤~¯à°÷»P¤H¬°¡Cµ½¡A©¯ºÖ¤£«Ý¥~¨D¡A·í¤U§Y¥i¦Û¨¬¶êº¡¡C
RRULE:FREQ=YEARLY;INTERVAL=1;BYMONTH=11;WKST=SU
PRIORITY:0
CLASS:PUBLIC
END:VEVENT
END:VCALENDAR
