BEGIN:VCALENDAR
CALSCALE:GREGORIAN
X-WR-TIMEZONE;VALUE=TEXT:GMT
PRODID:PEAK Corporation - piCal -
X-WR-CALNAME;VALUE=TEXT:¡uºØ¤U¦Û¤v§Æ±æªººØ¤l¡v¡A§V¤O§JªA§x¹Ò¡Bªï¦V«GÄR¶§¥ú¡C
VERSION:2.0
METHOD:PUBLISH
BEGIN:VTIMEZONE
TZID:GMT
BEGIN:STANDARD
DTSTART:19390101T000000
TZOFFSETFROM:+0000
TZOFFSETTO:+0000
TZNAME:GMT
END:STANDARD
END:VTIMEZONE
BEGIN:VEVENT
DTSTART;VALUE=DATE:20081201
DTEND;VALUE=DATE:20081202
LOCATION:
TRANSP:OPAQUE
SEQUENCE:1
UID:pical060-4a757c5840318ede0c533b0ce015705d
DTSTAMP:20080327T115256Z
CATEGORIES:
DESCRIPTION:
SUMMARY:¡uºØ¤U¦Û¤v§Æ±æªººØ¤l¡v¡A§V¤O§JªA§x¹Ò¡Bªï¦V«GÄR¶§¥ú¡C
RRULE:FREQ=YEARLY;INTERVAL=1;BYMONTH=12;WKST=SU
PRIORITY:0
CLASS:PUBLIC
END:VEVENT
END:VCALENDAR
