BEGIN:VCALENDAR
CALSCALE:GREGORIAN
X-WR-TIMEZONE;VALUE=TEXT:GMT
PRODID:PEAK Corporation - piCal -
X-WR-CALNAME;VALUE=TEXT:ºÖ¸ô¨©º¸¡G¡u±Ð¨|µL¥L¡A·R»Pº]¼Ë¦Ó¤w¡C¡v
VERSION:2.0
METHOD:PUBLISH
BEGIN:VTIMEZONE
TZID:GMT
BEGIN:STANDARD
DTSTART:19390101T000000
TZOFFSETFROM:+0000
TZOFFSETTO:+0000
TZNAME:GMT
END:STANDARD
END:VTIMEZONE
BEGIN:VEVENT
DTSTART;VALUE=DATE:20081212
DTEND;VALUE=DATE:20081213
LOCATION:
TRANSP:OPAQUE
SEQUENCE:1
UID:pical060-ae0c493b2ff637636e774ea94449b443
DTSTAMP:20080327T115450Z
CATEGORIES:
DESCRIPTION:
SUMMARY:ºÖ¸ô¨©º¸¡G¡u±Ð¨|µL¥L¡A·R»Pº]¼Ë¦Ó¤w¡C¡v
RRULE:FREQ=YEARLY;INTERVAL=1;BYMONTH=12;WKST=SU
PRIORITY:0
CLASS:PUBLIC
END:VEVENT
END:VCALENDAR
