BEGIN:VCALENDAR
CALSCALE:GREGORIAN
X-WR-TIMEZONE;VALUE=TEXT:GMT
PRODID:PEAK Corporation - piCal -
X-WR-CALNAME;VALUE=TEXT:¼w°ê¦³¥y¿Î»y¡G¡u®£ÄßÅý¯T¯VÅã±o¤ñ¹ê»Ú¥¨¤j¡C¡v
VERSION:2.0
METHOD:PUBLISH
BEGIN:VTIMEZONE
TZID:GMT
BEGIN:STANDARD
DTSTART:19390101T000000
TZOFFSETFROM:+0000
TZOFFSETTO:+0000
TZNAME:GMT
END:STANDARD
END:VTIMEZONE
BEGIN:VEVENT
DTSTART;VALUE=DATE:20080908
DTEND;VALUE=DATE:20080909
LOCATION:
TRANSP:OPAQUE
SEQUENCE:0
UID:pical060-1e8e5aaee8fb542d4721dbd90c158cfb
DTSTAMP:20080909T013620Z
CATEGORIES:
DESCRIPTION:
SUMMARY:¼w°ê¦³¥y¿Î»y¡G¡u®£ÄßÅý¯T¯VÅã±o¤ñ¹ê»Ú¥¨¤j¡C¡v
RRULE:FREQ=YEARLY;INTERVAL=1;BYMONTH=9;WKST=SU
PRIORITY:0
CLASS:PUBLIC
END:VEVENT
END:VCALENDAR
