BEGIN:VCALENDAR
CALSCALE:GREGORIAN
X-WR-TIMEZONE;VALUE=TEXT:GMT
PRODID:PEAK Corporation - piCal -
X-WR-CALNAME;VALUE=TEXT:·RÀq¥Í¡G¡u§Y¨Ï±O®_³õÁô±KªºÂÃ¦b´X¦Ê¨½¥~ªº¦a¤è¡A§A¥u­n¦Y¤F¦×´Nµ¥©ó¬O¦@¥Çªº¦æ¬°¡v 
VERSION:2.0
METHOD:PUBLISH
BEGIN:VTIMEZONE
TZID:GMT
BEGIN:STANDARD
DTSTART:19390101T000000
TZOFFSETFROM:+0000
TZOFFSETTO:+0000
TZNAME:GMT
END:STANDARD
END:VTIMEZONE
BEGIN:VEVENT
DTSTART;VALUE=DATE:20100323
DTEND;VALUE=DATE:20100324
LOCATION:
TRANSP:OPAQUE
SEQUENCE:0
UID:pical060-783b10ddb12ff25c5ca14358bb4e873b
DTSTAMP:20100301T130540Z
CATEGORIES:
DESCRIPTION:
SUMMARY:·RÀq¥Í¡G¡u§Y¨Ï±O®_³õÁô±KªºÂÃ¦b´X¦Ê¨½¥~ªº¦a¤è¡A§A¥u­n¦Y¤F¦×´Nµ¥©ó¬O¦@¥Çªº¦æ¬°¡v 
RRULE:FREQ=YEARLY;INTERVAL=1;BYMONTH=3;WKST=SU
PRIORITY:0
CLASS:PUBLIC
END:VEVENT
END:VCALENDAR
