BEGIN:VCALENDAR
CALSCALE:GREGORIAN
X-WR-TIMEZONE;VALUE=TEXT:GMT
PRODID:PEAK Corporation - piCal -
X-WR-CALNAME;VALUE=TEXT:«OÃ¹³Á¥d¥§¡G ¡u¦pªG±O®_³õ¦³¬Á¼þÀðªº¸Ü¡A ¤j®a´N·|¶}©l¦Y¯À¤F¡C ª¾¹D§Ú­Ì¨S¦³³y¦¨°Êª«¨ü­W¡A ¥i¥HÅý¦Û¤v¦n¹L¨Ç¡A¤]·|Åý°Êª«¦n¹L¨Ç ¡v
VERSION:2.0
METHOD:PUBLISH
BEGIN:VTIMEZONE
TZID:GMT
BEGIN:STANDARD
DTSTART:19390101T000000
TZOFFSETFROM:+0000
TZOFFSETTO:+0000
TZNAME:GMT
END:STANDARD
END:VTIMEZONE
BEGIN:VEVENT
DTSTART;VALUE=DATE:20100328
DTEND;VALUE=DATE:20100329
LOCATION:
TRANSP:OPAQUE
SEQUENCE:0
UID:pical060-c314120f666f32fe661d8b4013c4c6a9
DTSTAMP:20100301T130624Z
CATEGORIES:
DESCRIPTION:
SUMMARY:«OÃ¹³Á¥d¥§¡G ¡u¦pªG±O®_³õ¦³¬Á¼þÀðªº¸Ü¡A ¤j®a´N·|¶}©l¦Y¯À¤F¡C ª¾¹D§Ú­Ì¨S¦³³y¦¨°Êª«¨ü­W¡A ¥i¥HÅý¦Û¤v¦n¹L¨Ç¡A¤]·|Åý°Êª«¦n¹L¨Ç ¡v
RRULE:FREQ=YEARLY;INTERVAL=1;BYMONTH=3;WKST=SU
PRIORITY:0
CLASS:PUBLIC
END:VEVENT
END:VCALENDAR
