BEGIN:VCALENDAR
CALSCALE:GREGORIAN
X-WR-TIMEZONE;VALUE=TEXT:GMT
PRODID:PEAK Corporation - piCal -
X-WR-CALNAME;VALUE=TEXT:¨C­Ó¤H³£¬O¦Û¤vªº©R¹B«Ø¿v®v--¨F©Ô´µ¯S
VERSION:2.0
METHOD:PUBLISH
BEGIN:VTIMEZONE
TZID:GMT
BEGIN:STANDARD
DTSTART:19390101T000000
TZOFFSETFROM:+0000
TZOFFSETTO:+0000
TZNAME:GMT
END:STANDARD
END:VTIMEZONE
BEGIN:VEVENT
DTSTART;VALUE=DATE:20071224
DTEND;VALUE=DATE:20071225
LOCATION:
TRANSP:OPAQUE
SEQUENCE:1
UID:pical060-b4770c95994d5cc5f68bded2949521cc
DTSTAMP:20071224T141220Z
CATEGORIES:
DESCRIPTION:
SUMMARY:¨C­Ó¤H³£¬O¦Û¤vªº©R¹B«Ø¿v®v--¨F©Ô´µ¯S
RRULE:FREQ=YEARLY;INTERVAL=1;BYMONTH=12;WKST=SU
PRIORITY:0
CLASS:PUBLIC
END:VEVENT
END:VCALENDAR
