BEGIN:VCALENDAR
CALSCALE:GREGORIAN
X-WR-TIMEZONE;VALUE=TEXT:GMT
PRODID:PEAK Corporation - piCal -
X-WR-CALNAME;VALUE=TEXT:Àu¨q¨ô¶V¤£¬O¤@­Ó¨Æ¥ó¡A¦Ó¬O¤@­Ó²ßºD
VERSION:2.0
METHOD:PUBLISH
BEGIN:VTIMEZONE
TZID:GMT
BEGIN:STANDARD
DTSTART:19390101T000000
TZOFFSETFROM:+0000
TZOFFSETTO:+0000
TZNAME:GMT
END:STANDARD
END:VTIMEZONE
BEGIN:VEVENT
DTSTART;VALUE=DATE:20080108
DTEND;VALUE=DATE:20080109
LOCATION:
TRANSP:OPAQUE
SEQUENCE:0
UID:pical060-254749755041502f731c1c7f6c6d6971
DTSTAMP:20071224T160009Z
CATEGORIES:
DESCRIPTION:
SUMMARY:Àu¨q¨ô¶V¤£¬O¤@­Ó¨Æ¥ó¡A¦Ó¬O¤@­Ó²ßºD
RRULE:FREQ=YEARLY;INTERVAL=1;BYMONTH=1;WKST=SU
PRIORITY:0
CLASS:PUBLIC
END:VEVENT
END:VCALENDAR
