BEGIN:VCALENDAR
CALSCALE:GREGORIAN
X-WR-TIMEZONE;VALUE=TEXT:GMT
PRODID:PEAK Corporation - piCal -
X-WR-CALNAME;VALUE=TEXT:¤@¯ë¤H¥u·Q®ø¿i®É¶¡¡AÁo©ú¤H«o¸Õ¹Ï§Q¥Î®É¶¡
VERSION:2.0
METHOD:PUBLISH
BEGIN:VTIMEZONE
TZID:GMT
BEGIN:STANDARD
DTSTART:19390101T000000
TZOFFSETFROM:+0000
TZOFFSETTO:+0000
TZNAME:GMT
END:STANDARD
END:VTIMEZONE
BEGIN:VEVENT
DTSTART;VALUE=DATE:20080109
DTEND;VALUE=DATE:20080110
LOCATION:
TRANSP:OPAQUE
SEQUENCE:0
UID:pical060-0a7b744f6bb317e38e2a44a1b09dbded
DTSTAMP:20071224T160037Z
CATEGORIES:
DESCRIPTION:
SUMMARY:¤@¯ë¤H¥u·Q®ø¿i®É¶¡¡AÁo©ú¤H«o¸Õ¹Ï§Q¥Î®É¶¡
RRULE:FREQ=YEARLY;INTERVAL=1;BYMONTH=1;WKST=SU
PRIORITY:0
CLASS:PUBLIC
END:VEVENT
END:VCALENDAR
