BEGIN:VCALENDAR
CALSCALE:GREGORIAN
X-WR-TIMEZONE;VALUE=TEXT:GMT
PRODID:PEAK Corporation - piCal -
X-WR-CALNAME;VALUE=TEXT:¸U¤V°ª¼Ó¥­¦a°_,­^¶¯¤£½×¥X¨­§C,¤ô¯à¬ï¥Û,»E¨F¦¨¶ð
VERSION:2.0
METHOD:PUBLISH
BEGIN:VTIMEZONE
TZID:GMT
BEGIN:STANDARD
DTSTART:19390101T000000
TZOFFSETFROM:+0000
TZOFFSETTO:+0000
TZNAME:GMT
END:STANDARD
END:VTIMEZONE
BEGIN:VEVENT
DTSTART;VALUE=DATE:20080117
DTEND;VALUE=DATE:20080118
LOCATION:
TRANSP:OPAQUE
SEQUENCE:0
UID:pical060-784ff8a7beee50a656abd5fa4ea04f23
DTSTAMP:20071224T160516Z
CATEGORIES:
DESCRIPTION:
SUMMARY:¸U¤V°ª¼Ó¥­¦a°_,­^¶¯¤£½×¥X¨­§C,¤ô¯à¬ï¥Û,»E¨F¦¨¶ð
RRULE:FREQ=YEARLY;INTERVAL=1;BYMONTH=1;WKST=SU
PRIORITY:0
CLASS:PUBLIC
END:VEVENT
END:VCALENDAR
