BEGIN:VCALENDAR
CALSCALE:GREGORIAN
X-WR-TIMEZONE;VALUE=TEXT:GMT
PRODID:PEAK Corporation - piCal -
X-WR-CALNAME;VALUE=TEXT:¤H¥Í¥|ºÖ¡G¦Û¦b¡B¦Û²M¡B¦Û§U¡B¦Û±Ï
VERSION:2.0
METHOD:PUBLISH
BEGIN:VTIMEZONE
TZID:GMT
BEGIN:STANDARD
DTSTART:19390101T000000
TZOFFSETFROM:+0000
TZOFFSETTO:+0000
TZNAME:GMT
END:STANDARD
END:VTIMEZONE
BEGIN:VEVENT
DTSTART;VALUE=DATE:20080130
DTEND;VALUE=DATE:20080131
LOCATION:
TRANSP:OPAQUE
SEQUENCE:0
UID:pical060-53022795e5e0d7857d403bf5cc6d796e
DTSTAMP:20071224T161332Z
CATEGORIES:
DESCRIPTION:
SUMMARY:¤H¥Í¥|ºÖ¡G¦Û¦b¡B¦Û²M¡B¦Û§U¡B¦Û±Ï
RRULE:FREQ=YEARLY;INTERVAL=1;BYMONTH=1;WKST=SU
PRIORITY:0
CLASS:PUBLIC
END:VEVENT
END:VCALENDAR
