BEGIN:VCALENDAR
CALSCALE:GREGORIAN
X-WR-TIMEZONE;VALUE=TEXT:GMT
PRODID:PEAK Corporation - piCal -
X-WR-CALNAME;VALUE=TEXT:¨S¦³¤°»ò¯à¨ú¥NµL©Ò«O¯d¡B¼ö¸Û¦Ó¯uå®ªº·P±¡¡]¨f§ó´µ¡^
VERSION:2.0
METHOD:PUBLISH
BEGIN:VTIMEZONE
TZID:GMT
BEGIN:STANDARD
DTSTART:19390101T000000
TZOFFSETFROM:+0000
TZOFFSETTO:+0000
TZNAME:GMT
END:STANDARD
END:VTIMEZONE
BEGIN:VEVENT
DTSTART;VALUE=DATE:20080225
DTEND;VALUE=DATE:20080226
LOCATION:
TRANSP:OPAQUE
SEQUENCE:0
UID:pical060-17a3181b24507d4c2bc01f504465d5c4
DTSTAMP:20071225T020042Z
CATEGORIES:
DESCRIPTION:
SUMMARY:¨S¦³¤°»ò¯à¨ú¥NµL©Ò«O¯d¡B¼ö¸Û¦Ó¯uå®ªº·P±¡¡]¨f§ó´µ¡^
RRULE:FREQ=YEARLY;INTERVAL=1;BYMONTH=2;WKST=SU
PRIORITY:0
CLASS:PUBLIC
END:VEVENT
END:VCALENDAR
