BEGIN:VCALENDAR
CALSCALE:GREGORIAN
X-WR-TIMEZONE;VALUE=TEXT:GMT
PRODID:PEAK Corporation - piCal -
X-WR-CALNAME;VALUE=TEXT:±aµÛ³ß®®ªº¤ß±¡¥Xªù¡A¨C¤@¤Ñ³£¬O¥þ·sªº¦n¤Ñ
VERSION:2.0
METHOD:PUBLISH
BEGIN:VTIMEZONE
TZID:GMT
BEGIN:STANDARD
DTSTART:19390101T000000
TZOFFSETFROM:+0000
TZOFFSETTO:+0000
TZNAME:GMT
END:STANDARD
END:VTIMEZONE
BEGIN:VEVENT
DTSTART;VALUE=DATE:20080307
DTEND;VALUE=DATE:20080308
LOCATION:
TRANSP:OPAQUE
SEQUENCE:0
UID:pical060-4a4dcac32b4c0839b5a3cdf8590056fa
DTSTAMP:20071225T042516Z
CATEGORIES:
DESCRIPTION:
SUMMARY:±aµÛ³ß®®ªº¤ß±¡¥Xªù¡A¨C¤@¤Ñ³£¬O¥þ·sªº¦n¤Ñ
RRULE:FREQ=YEARLY;INTERVAL=1;BYMONTH=3;WKST=SU
PRIORITY:0
CLASS:PUBLIC
END:VEVENT
END:VCALENDAR
