BEGIN:VCALENDAR
CALSCALE:GREGORIAN
X-WR-TIMEZONE;VALUE=TEXT:GMT
PRODID:PEAK Corporation - piCal -
X-WR-CALNAME;VALUE=TEXT:°ö¾i¦Û±o¨ä¼Öªºº¡¨¬¡A¦h¤@ÂI©¯ºÖªº¦Û¥DÅv
VERSION:2.0
METHOD:PUBLISH
BEGIN:VTIMEZONE
TZID:GMT
BEGIN:STANDARD
DTSTART:19390101T000000
TZOFFSETFROM:+0000
TZOFFSETTO:+0000
TZNAME:GMT
END:STANDARD
END:VTIMEZONE
BEGIN:VEVENT
DTSTART;VALUE=DATE:20080313
DTEND;VALUE=DATE:20080314
LOCATION:
TRANSP:OPAQUE
SEQUENCE:0
UID:pical060-7862158c0ebc466a15b4585276af33d3
DTSTAMP:20071225T043358Z
CATEGORIES:
DESCRIPTION:
SUMMARY:°ö¾i¦Û±o¨ä¼Öªºº¡¨¬¡A¦h¤@ÂI©¯ºÖªº¦Û¥DÅv
RRULE:FREQ=YEARLY;INTERVAL=1;BYMONTH=3;WKST=SU
PRIORITY:0
CLASS:PUBLIC
END:VEVENT
END:VCALENDAR
