BEGIN:VCALENDAR
CALSCALE:GREGORIAN
X-WR-TIMEZONE;VALUE=TEXT:GMT
PRODID:PEAK Corporation - piCal -
X-WR-CALNAME;VALUE=TEXT:¦~»´¡A¤£¶È¦b©óÁy¤Wªº¥úªö»P´Â®ð¡A¤]¦b©ó¤ßÆFªº¦n©_©M³Ð·s
VERSION:2.0
METHOD:PUBLISH
BEGIN:VTIMEZONE
TZID:GMT
BEGIN:STANDARD
DTSTART:19390101T000000
TZOFFSETFROM:+0000
TZOFFSETTO:+0000
TZNAME:GMT
END:STANDARD
END:VTIMEZONE
BEGIN:VEVENT
DTSTART;VALUE=DATE:20080328
DTEND;VALUE=DATE:20080329
LOCATION:
TRANSP:OPAQUE
SEQUENCE:0
UID:pical060-7efafdf487f2cb85b0e8650a2badcfaf
DTSTAMP:20071225T044724Z
CATEGORIES:
DESCRIPTION:
SUMMARY:¦~»´¡A¤£¶È¦b©óÁy¤Wªº¥úªö»P´Â®ð¡A¤]¦b©ó¤ßÆFªº¦n©_©M³Ð·s
RRULE:FREQ=YEARLY;INTERVAL=1;BYMONTH=3;WKST=SU
PRIORITY:0
CLASS:PUBLIC
END:VEVENT
END:VCALENDAR
