BEGIN:VCALENDAR
CALSCALE:GREGORIAN
X-WR-TIMEZONE;VALUE=TEXT:GMT
PRODID:PEAK Corporation - piCal -
X-WR-CALNAME;VALUE=TEXT:½Ñ¨Æ¨DÂ²¾ë¡A¦Û¦³§ó¦h¾l·vÄÝ©ó¦Û¤v
VERSION:2.0
METHOD:PUBLISH
BEGIN:VTIMEZONE
TZID:GMT
BEGIN:STANDARD
DTSTART:19390101T000000
TZOFFSETFROM:+0000
TZOFFSETTO:+0000
TZNAME:GMT
END:STANDARD
END:VTIMEZONE
BEGIN:VEVENT
DTSTART;VALUE=DATE:20080331
DTEND;VALUE=DATE:20080401
LOCATION:
TRANSP:OPAQUE
SEQUENCE:0
UID:pical060-040de1fff0a9469b23b8c20c95a8cfa4
DTSTAMP:20071225T045113Z
CATEGORIES:
DESCRIPTION:
SUMMARY:½Ñ¨Æ¨DÂ²¾ë¡A¦Û¦³§ó¦h¾l·vÄÝ©ó¦Û¤v
RRULE:FREQ=YEARLY;INTERVAL=1;BYMONTH=4;WKST=SU
PRIORITY:0
CLASS:PUBLIC
END:VEVENT
END:VCALENDAR
