BEGIN:VCALENDAR
CALSCALE:GREGORIAN
X-WR-TIMEZONE;VALUE=TEXT:GMT
PRODID:PEAK Corporation - piCal -
X-WR-CALNAME;VALUE=TEXT:¥Í©R³Ì¬üÄRªº³øÀv¤§¤@«K¬O¡GÀ°§U¥L¤Hªº¦P®É¤]À°§U¤F¦Û¤v
VERSION:2.0
METHOD:PUBLISH
BEGIN:VTIMEZONE
TZID:GMT
BEGIN:STANDARD
DTSTART:19390101T000000
TZOFFSETFROM:+0000
TZOFFSETTO:+0000
TZNAME:GMT
END:STANDARD
END:VTIMEZONE
BEGIN:VEVENT
DTSTART;VALUE=DATE:20080404
DTEND;VALUE=DATE:20080405
LOCATION:
TRANSP:OPAQUE
SEQUENCE:0
UID:pical060-afb788f65afd9b136142a4564a10c20e
DTSTAMP:20071225T045652Z
CATEGORIES:
DESCRIPTION:
SUMMARY:¥Í©R³Ì¬üÄRªº³øÀv¤§¤@«K¬O¡GÀ°§U¥L¤Hªº¦P®É¤]À°§U¤F¦Û¤v
RRULE:FREQ=YEARLY;INTERVAL=1;BYMONTH=4;WKST=SU
PRIORITY:0
CLASS:PUBLIC
END:VEVENT
END:VCALENDAR
