BEGIN:VCALENDAR
CALSCALE:GREGORIAN
X-WR-TIMEZONE;VALUE=TEXT:GMT
PRODID:PEAK Corporation - piCal -
X-WR-CALNAME;VALUE=TEXT:±ß¦w¤§«e¡A¦w¼¢ªº§i¶D¦Û¤v¡G¶Ù¡I§A¤µ¤Ñªí²{±o¤£¿ù
VERSION:2.0
METHOD:PUBLISH
BEGIN:VTIMEZONE
TZID:GMT
BEGIN:STANDARD
DTSTART:19390101T000000
TZOFFSETFROM:+0000
TZOFFSETTO:+0000
TZNAME:GMT
END:STANDARD
END:VTIMEZONE
BEGIN:VEVENT
DTSTART;VALUE=DATE:20080405
DTEND;VALUE=DATE:20080406
LOCATION:
TRANSP:OPAQUE
SEQUENCE:0
UID:pical060-23ac04b4f62d4532f11592f180b30b64
DTSTAMP:20071225T050655Z
CATEGORIES:
DESCRIPTION:
SUMMARY:±ß¦w¤§«e¡A¦w¼¢ªº§i¶D¦Û¤v¡G¶Ù¡I§A¤µ¤Ñªí²{±o¤£¿ù
RRULE:FREQ=YEARLY;INTERVAL=1;BYMONTH=4;WKST=SU
PRIORITY:0
CLASS:PUBLIC
END:VEVENT
END:VCALENDAR
