BEGIN:VCALENDAR
CALSCALE:GREGORIAN
X-WR-TIMEZONE;VALUE=TEXT:GMT
PRODID:PEAK Corporation - piCal -
X-WR-CALNAME;VALUE=TEXT:¤Ñ¤U¨Æ³£¥HÆF·P»FºÝ¡A¥H¹ê½î¸¨¦¨
VERSION:2.0
METHOD:PUBLISH
BEGIN:VTIMEZONE
TZID:GMT
BEGIN:STANDARD
DTSTART:19390101T000000
TZOFFSETFROM:+0000
TZOFFSETTO:+0000
TZNAME:GMT
END:STANDARD
END:VTIMEZONE
BEGIN:VEVENT
DTSTART;VALUE=DATE:20080407
DTEND;VALUE=DATE:20080408
LOCATION:
TRANSP:OPAQUE
SEQUENCE:0
UID:pical060-7f2e0d494f1af63297487dd9b6f228ff
DTSTAMP:20071225T050810Z
CATEGORIES:
DESCRIPTION:
SUMMARY:¤Ñ¤U¨Æ³£¥HÆF·P»FºÝ¡A¥H¹ê½î¸¨¦¨
RRULE:FREQ=YEARLY;INTERVAL=1;BYMONTH=4;WKST=SU
PRIORITY:0
CLASS:PUBLIC
END:VEVENT
END:VCALENDAR
