BEGIN:VCALENDAR
CALSCALE:GREGORIAN
X-WR-TIMEZONE;VALUE=TEXT:GMT
PRODID:PEAK Corporation - piCal -
X-WR-CALNAME;VALUE=TEXT:³]¨­³B¦a±q§O¤HªºÆ[ÂI¨Ó¬Ý¨Æ±¡¡A¤~¯à¯u¥¿¤F¸Ñ§O¤H
VERSION:2.0
METHOD:PUBLISH
BEGIN:VTIMEZONE
TZID:GMT
BEGIN:STANDARD
DTSTART:19390101T000000
TZOFFSETFROM:+0000
TZOFFSETTO:+0000
TZNAME:GMT
END:STANDARD
END:VTIMEZONE
BEGIN:VEVENT
DTSTART;VALUE=DATE:20080410
DTEND;VALUE=DATE:20080411
LOCATION:
TRANSP:OPAQUE
SEQUENCE:0
UID:pical060-d5570eb6e1e9b004e1e8b1e3de0563e1
DTSTAMP:20071225T050951Z
CATEGORIES:
DESCRIPTION:
SUMMARY:³]¨­³B¦a±q§O¤HªºÆ[ÂI¨Ó¬Ý¨Æ±¡¡A¤~¯à¯u¥¿¤F¸Ñ§O¤H
RRULE:FREQ=YEARLY;INTERVAL=1;BYMONTH=4;WKST=SU
PRIORITY:0
CLASS:PUBLIC
END:VEVENT
END:VCALENDAR
