BEGIN:VCALENDAR
CALSCALE:GREGORIAN
X-WR-TIMEZONE;VALUE=TEXT:GMT
PRODID:PEAK Corporation - piCal -
X-WR-CALNAME;VALUE=TEXT:¤£¯à»´©öÁ««Ý¦Û¤v¡A¯S§O¬O¦b¶^­Ë¥¢·Nªº®É­Ô
VERSION:2.0
METHOD:PUBLISH
BEGIN:VTIMEZONE
TZID:GMT
BEGIN:STANDARD
DTSTART:19390101T000000
TZOFFSETFROM:+0000
TZOFFSETTO:+0000
TZNAME:GMT
END:STANDARD
END:VTIMEZONE
BEGIN:VEVENT
DTSTART;VALUE=DATE:20080411
DTEND;VALUE=DATE:20080412
LOCATION:
TRANSP:OPAQUE
SEQUENCE:0
UID:pical060-38fa9d36b22f4eef455050de8fc69fc5
DTSTAMP:20071225T051051Z
CATEGORIES:
DESCRIPTION:
SUMMARY:¤£¯à»´©öÁ««Ý¦Û¤v¡A¯S§O¬O¦b¶^­Ë¥¢·Nªº®É­Ô
RRULE:FREQ=YEARLY;INTERVAL=1;BYMONTH=4;WKST=SU
PRIORITY:0
CLASS:PUBLIC
END:VEVENT
END:VCALENDAR
