BEGIN:VCALENDAR
CALSCALE:GREGORIAN
X-WR-TIMEZONE;VALUE=TEXT:GMT
PRODID:PEAK Corporation - piCal -
X-WR-CALNAME;VALUE=TEXT:­n¦³°Ê¤O¥²¶·¥ý¦³°Ê¾÷¡A¥ç§Y­nª¾¹D¡u¬°¤°»ò¡v­n³o»ò°µ
VERSION:2.0
METHOD:PUBLISH
BEGIN:VTIMEZONE
TZID:GMT
BEGIN:STANDARD
DTSTART:19390101T000000
TZOFFSETFROM:+0000
TZOFFSETTO:+0000
TZNAME:GMT
END:STANDARD
END:VTIMEZONE
BEGIN:VEVENT
DTSTART;VALUE=DATE:20080412
DTEND;VALUE=DATE:20080413
LOCATION:
TRANSP:OPAQUE
SEQUENCE:0
UID:pical060-aed81cdeec672773a63de72a90f9f8e7
DTSTAMP:20071225T051214Z
CATEGORIES:
DESCRIPTION:
SUMMARY:­n¦³°Ê¤O¥²¶·¥ý¦³°Ê¾÷¡A¥ç§Y­nª¾¹D¡u¬°¤°»ò¡v­n³o»ò°µ
RRULE:FREQ=YEARLY;INTERVAL=1;BYMONTH=4;WKST=SU
PRIORITY:0
CLASS:PUBLIC
END:VEVENT
END:VCALENDAR
