BEGIN:VCALENDAR
CALSCALE:GREGORIAN
X-WR-TIMEZONE;VALUE=TEXT:GMT
PRODID:PEAK Corporation - piCal -
X-WR-CALNAME;VALUE=TEXT:»E¶°¤H°¨¥u¬O¶}©l¡FÄ~Äò¦@¨Æ¥i¿×¶i®i¡F¦P¤ß¤u§@¤~¬O¦¨¥\¡]¦ë§QºÖ¯S¡^
VERSION:2.0
METHOD:PUBLISH
BEGIN:VTIMEZONE
TZID:GMT
BEGIN:STANDARD
DTSTART:19390101T000000
TZOFFSETFROM:+0000
TZOFFSETTO:+0000
TZNAME:GMT
END:STANDARD
END:VTIMEZONE
BEGIN:VEVENT
DTSTART;VALUE=DATE:20080414
DTEND;VALUE=DATE:20080415
LOCATION:
TRANSP:OPAQUE
SEQUENCE:0
UID:pical060-03f27bad6cde3ff9d84c04df3459bfe4
DTSTAMP:20071225T051337Z
CATEGORIES:
DESCRIPTION:
SUMMARY:»E¶°¤H°¨¥u¬O¶}©l¡FÄ~Äò¦@¨Æ¥i¿×¶i®i¡F¦P¤ß¤u§@¤~¬O¦¨¥\¡]¦ë§QºÖ¯S¡^
RRULE:FREQ=YEARLY;INTERVAL=1;BYMONTH=4;WKST=SU
PRIORITY:0
CLASS:PUBLIC
END:VEVENT
END:VCALENDAR
