BEGIN:VCALENDAR
CALSCALE:GREGORIAN
X-WR-TIMEZONE;VALUE=TEXT:GMT
PRODID:PEAK Corporation - piCal -
X-WR-CALNAME;VALUE=TEXT:ª¾¹D¦p¦óµo°Ý¡A³Ó¹L©úÁAµª®×
VERSION:2.0
METHOD:PUBLISH
BEGIN:VTIMEZONE
TZID:GMT
BEGIN:STANDARD
DTSTART:19390101T000000
TZOFFSETFROM:+0000
TZOFFSETTO:+0000
TZNAME:GMT
END:STANDARD
END:VTIMEZONE
BEGIN:VEVENT
DTSTART;VALUE=DATE:20080416
DTEND;VALUE=DATE:20080417
LOCATION:
TRANSP:OPAQUE
SEQUENCE:0
UID:pical060-e5f385ca6bb0e980b495bb1775938542
DTSTAMP:20071225T051451Z
CATEGORIES:
DESCRIPTION:
SUMMARY:ª¾¹D¦p¦óµo°Ý¡A³Ó¹L©úÁAµª®×
RRULE:FREQ=YEARLY;INTERVAL=1;BYMONTH=4;WKST=SU
PRIORITY:0
CLASS:PUBLIC
END:VEVENT
END:VCALENDAR
