BEGIN:VCALENDAR
CALSCALE:GREGORIAN
X-WR-TIMEZONE;VALUE=TEXT:GMT
PRODID:PEAK Corporation - piCal -
X-WR-CALNAME;VALUE=TEXT:¨S¦³¤HÄ@·N­p¹º¥¢±Ñ¡A¦ýµ´¤j¦h¼Æ¤H«o±Ñ©ó¯Ê¥F­p¹º
VERSION:2.0
METHOD:PUBLISH
BEGIN:VTIMEZONE
TZID:GMT
BEGIN:STANDARD
DTSTART:19390101T000000
TZOFFSETFROM:+0000
TZOFFSETTO:+0000
TZNAME:GMT
END:STANDARD
END:VTIMEZONE
BEGIN:VEVENT
DTSTART;VALUE=DATE:20080417
DTEND;VALUE=DATE:20080418
LOCATION:
TRANSP:OPAQUE
SEQUENCE:0
UID:pical060-7e38d5e464e445ad4b6edcdaa3a56154
DTSTAMP:20071225T051546Z
CATEGORIES:
DESCRIPTION:
SUMMARY:¨S¦³¤HÄ@·N­p¹º¥¢±Ñ¡A¦ýµ´¤j¦h¼Æ¤H«o±Ñ©ó¯Ê¥F­p¹º
RRULE:FREQ=YEARLY;INTERVAL=1;BYMONTH=4;WKST=SU
PRIORITY:0
CLASS:PUBLIC
END:VEVENT
END:VCALENDAR
