BEGIN:VCALENDAR
CALSCALE:GREGORIAN
X-WR-TIMEZONE;VALUE=TEXT:GMT
PRODID:PEAK Corporation - piCal -
X-WR-CALNAME;VALUE=TEXT:µo¨¥¤§«e¶·¦Ò¼{¤T¥ó¨Æ¡GÂ§»ª¡B³õ¦X»P®É¾÷
VERSION:2.0
METHOD:PUBLISH
BEGIN:VTIMEZONE
TZID:GMT
BEGIN:STANDARD
DTSTART:19390101T000000
TZOFFSETFROM:+0000
TZOFFSETTO:+0000
TZNAME:GMT
END:STANDARD
END:VTIMEZONE
BEGIN:VEVENT
DTSTART;VALUE=DATE:20080418
DTEND;VALUE=DATE:20080419
LOCATION:
TRANSP:OPAQUE
SEQUENCE:0
UID:pical060-282b2aa5ab64c278ff8ff4fc9d97d093
DTSTAMP:20071225T051629Z
CATEGORIES:
DESCRIPTION:
SUMMARY:µo¨¥¤§«e¶·¦Ò¼{¤T¥ó¨Æ¡GÂ§»ª¡B³õ¦X»P®É¾÷
RRULE:FREQ=YEARLY;INTERVAL=1;BYMONTH=4;WKST=SU
PRIORITY:0
CLASS:PUBLIC
END:VEVENT
END:VCALENDAR
