BEGIN:VCALENDAR
CALSCALE:GREGORIAN
X-WR-TIMEZONE;VALUE=TEXT:GMT
PRODID:PEAK Corporation - piCal -
X-WR-CALNAME;VALUE=TEXT:¨º¨Ç©t¿W¨«¦b¤H¥Í¸ô¤Wªº¤H¡A¸ô³~¤WÁ`¬O§Gº¡¤F¯ð´Æ¡]¤p¥ò°¨¡^
VERSION:2.0
METHOD:PUBLISH
BEGIN:VTIMEZONE
TZID:GMT
BEGIN:STANDARD
DTSTART:19390101T000000
TZOFFSETFROM:+0000
TZOFFSETTO:+0000
TZNAME:GMT
END:STANDARD
END:VTIMEZONE
BEGIN:VEVENT
DTSTART;VALUE=DATE:20080420
DTEND;VALUE=DATE:20080421
LOCATION:
TRANSP:OPAQUE
SEQUENCE:0
UID:pical060-aa754caacedc6bb0f3119ea39fecf108
DTSTAMP:20071225T051901Z
CATEGORIES:
DESCRIPTION:
SUMMARY:¨º¨Ç©t¿W¨«¦b¤H¥Í¸ô¤Wªº¤H¡A¸ô³~¤WÁ`¬O§Gº¡¤F¯ð´Æ¡]¤p¥ò°¨¡^
RRULE:FREQ=YEARLY;INTERVAL=1;BYMONTH=4;WKST=SU
PRIORITY:0
CLASS:PUBLIC
END:VEVENT
END:VCALENDAR
