BEGIN:VCALENDAR
CALSCALE:GREGORIAN
X-WR-TIMEZONE;VALUE=TEXT:GMT
PRODID:PEAK Corporation - piCal -
X-WR-CALNAME;VALUE=TEXT:·P¿E¨Ï§Ú­Ì±N¥L¤HªºÀuÂI¡AÅÜ¦¨¦Û¤vªº°]´I¡]¥ñº¸®õ¡^
VERSION:2.0
METHOD:PUBLISH
BEGIN:VTIMEZONE
TZID:GMT
BEGIN:STANDARD
DTSTART:19390101T000000
TZOFFSETFROM:+0000
TZOFFSETTO:+0000
TZNAME:GMT
END:STANDARD
END:VTIMEZONE
BEGIN:VEVENT
DTSTART;VALUE=DATE:20080423
DTEND;VALUE=DATE:20080424
LOCATION:
TRANSP:OPAQUE
SEQUENCE:0
UID:pical060-e13f63b40549a541d06ec0ad7f1e8d59
DTSTAMP:20071225T052104Z
CATEGORIES:
DESCRIPTION:
SUMMARY:·P¿E¨Ï§Ú­Ì±N¥L¤HªºÀuÂI¡AÅÜ¦¨¦Û¤vªº°]´I¡]¥ñº¸®õ¡^
RRULE:FREQ=YEARLY;INTERVAL=1;BYMONTH=4;WKST=SU
PRIORITY:0
CLASS:PUBLIC
END:VEVENT
END:VCALENDAR
