BEGIN:VCALENDAR
CALSCALE:GREGORIAN
X-WR-TIMEZONE;VALUE=TEXT:GMT
PRODID:PEAK Corporation - piCal -
X-WR-CALNAME;VALUE=TEXT:­«­nªº¨Ã«D§Ú­Ì¸m¨­¦ó³B¡A¦Ó¬O«e©¹¦ó³B
VERSION:2.0
METHOD:PUBLISH
BEGIN:VTIMEZONE
TZID:GMT
BEGIN:STANDARD
DTSTART:19390101T000000
TZOFFSETFROM:+0000
TZOFFSETTO:+0000
TZNAME:GMT
END:STANDARD
END:VTIMEZONE
BEGIN:VEVENT
DTSTART;VALUE=DATE:20080426
DTEND;VALUE=DATE:20080427
LOCATION:
TRANSP:OPAQUE
SEQUENCE:0
UID:pical060-6063d1d64a25eeca509405f618ce01d3
DTSTAMP:20071225T052327Z
CATEGORIES:
DESCRIPTION:
SUMMARY:­«­nªº¨Ã«D§Ú­Ì¸m¨­¦ó³B¡A¦Ó¬O«e©¹¦ó³B
RRULE:FREQ=YEARLY;INTERVAL=1;BYMONTH=4;WKST=SU
PRIORITY:0
CLASS:PUBLIC
END:VEVENT
END:VCALENDAR
