BEGIN:VCALENDAR
CALSCALE:GREGORIAN
X-WR-TIMEZONE;VALUE=TEXT:GMT
PRODID:PEAK Corporation - piCal -
X-WR-CALNAME;VALUE=TEXT:¤H¥Íªº¡u¤T³¡¦±¡vÀ³¸Ó¬OµL·\ªº¬Q¤Ñ¡A¥R¹êªº¤µ¤Ñ¡A»P¥Rº¡§Æ±æªº©ú¤Ñ
VERSION:2.0
METHOD:PUBLISH
BEGIN:VTIMEZONE
TZID:GMT
BEGIN:STANDARD
DTSTART:19390101T000000
TZOFFSETFROM:+0000
TZOFFSETTO:+0000
TZNAME:GMT
END:STANDARD
END:VTIMEZONE
BEGIN:VEVENT
DTSTART;VALUE=DATE:20080430
DTEND;VALUE=DATE:20080501
LOCATION:
TRANSP:OPAQUE
SEQUENCE:0
UID:pical060-2c4ccbfdf89637cee790ea516c929db9
DTSTAMP:20071225T053049Z
CATEGORIES:
DESCRIPTION:
SUMMARY:¤H¥Íªº¡u¤T³¡¦±¡vÀ³¸Ó¬OµL·\ªº¬Q¤Ñ¡A¥R¹êªº¤µ¤Ñ¡A»P¥Rº¡§Æ±æªº©ú¤Ñ
RRULE:FREQ=YEARLY;INTERVAL=1;BYMONTH=5;WKST=SU
PRIORITY:0
CLASS:PUBLIC
END:VEVENT
END:VCALENDAR
