BEGIN:VCALENDAR
CALSCALE:GREGORIAN
X-WR-TIMEZONE;VALUE=TEXT:GMT
PRODID:PEAK Corporation - piCal -
X-WR-CALNAME;VALUE=TEXT:&#8226;	¹Fº¸¤å¡G¡u½Í¨ì¦WÁn¡BºaÄ£¡B¨É¼Ö¡B°]´Iµ¥¡A¦pªG®³¨Ó»PµSºÃªº¼ö±¡¬Û¤ñ¡A³o¤@¤Á¤£¹L³£¬O¹Ð¤g¦Ó¤w¡C¡v
VERSION:2.0
METHOD:PUBLISH
BEGIN:VTIMEZONE
TZID:GMT
BEGIN:STANDARD
DTSTART:19390101T000000
TZOFFSETFROM:+0000
TZOFFSETTO:+0000
TZNAME:GMT
END:STANDARD
END:VTIMEZONE
BEGIN:VEVENT
DTSTART;VALUE=DATE:20080502
DTEND;VALUE=DATE:20080503
LOCATION:
TRANSP:OPAQUE
SEQUENCE:0
UID:pical060-31ad0733b657643477b1c85e7948e0e7
DTSTAMP:20071225T053420Z
CATEGORIES:
DESCRIPTION:
SUMMARY:&#8226;	¹Fº¸¤å¡G¡u½Í¨ì¦WÁn¡BºaÄ£¡B¨É¼Ö¡B°]´Iµ¥¡A¦pªG®³¨Ó»PµSºÃªº¼ö±¡¬Û¤ñ¡A³o¤@¤Á¤£¹L³£¬O¹Ð¤g¦Ó¤w¡C¡v
RRULE:FREQ=YEARLY;INTERVAL=1;BYMONTH=5;WKST=SU
PRIORITY:0
CLASS:PUBLIC
END:VEVENT
END:VCALENDAR
