BEGIN:VCALENDAR
CALSCALE:GREGORIAN
X-WR-TIMEZONE;VALUE=TEXT:GMT
PRODID:PEAK Corporation - piCal -
X-WR-CALNAME;VALUE=TEXT:ÁöµM§A¤£¯à¹wª¾¤H¥Íªº¤jÀ¸¦ó°_¦ó¸¨¡A¦ý§A¥i¥H¨M©wºt¥Xªº¤è¦¡
VERSION:2.0
METHOD:PUBLISH
BEGIN:VTIMEZONE
TZID:GMT
BEGIN:STANDARD
DTSTART:19390101T000000
TZOFFSETFROM:+0000
TZOFFSETTO:+0000
TZNAME:GMT
END:STANDARD
END:VTIMEZONE
BEGIN:VEVENT
DTSTART;VALUE=DATE:20080503
DTEND;VALUE=DATE:20080504
LOCATION:
TRANSP:OPAQUE
SEQUENCE:0
UID:pical060-76549bda3ebbe1a31562969474bae2fb
DTSTAMP:20071226T134800Z
CATEGORIES:
DESCRIPTION:
SUMMARY:ÁöµM§A¤£¯à¹wª¾¤H¥Íªº¤jÀ¸¦ó°_¦ó¸¨¡A¦ý§A¥i¥H¨M©wºt¥Xªº¤è¦¡
RRULE:FREQ=YEARLY;INTERVAL=1;BYMONTH=5;WKST=SU
PRIORITY:0
CLASS:PUBLIC
END:VEVENT
END:VCALENDAR
