BEGIN:VCALENDAR
CALSCALE:GREGORIAN
X-WR-TIMEZONE;VALUE=TEXT:GMT
PRODID:PEAK Corporation - piCal -
X-WR-CALNAME;VALUE=TEXT:¥R¹êµL®¬ªº¥Í¬¡¡A¬O¤@¤Ñ¤Ñ¡A¤@ÂIÂI¥Î¤ß²Ö¥[ªº¡C
VERSION:2.0
METHOD:PUBLISH
BEGIN:VTIMEZONE
TZID:GMT
BEGIN:STANDARD
DTSTART:19390101T000000
TZOFFSETFROM:+0000
TZOFFSETTO:+0000
TZNAME:GMT
END:STANDARD
END:VTIMEZONE
BEGIN:VEVENT
DTSTART;VALUE=DATE:20080504
DTEND;VALUE=DATE:20080505
LOCATION:
TRANSP:OPAQUE
SEQUENCE:0
UID:pical060-a45f56e38de386dcca224472224d7405
DTSTAMP:20071226T134846Z
CATEGORIES:
DESCRIPTION:
SUMMARY:¥R¹êµL®¬ªº¥Í¬¡¡A¬O¤@¤Ñ¤Ñ¡A¤@ÂIÂI¥Î¤ß²Ö¥[ªº¡C
RRULE:FREQ=YEARLY;INTERVAL=1;BYMONTH=5;WKST=SU
PRIORITY:0
CLASS:PUBLIC
END:VEVENT
END:VCALENDAR
