BEGIN:VCALENDAR
CALSCALE:GREGORIAN
X-WR-TIMEZONE;VALUE=TEXT:GMT
PRODID:PEAK Corporation - piCal -
X-WR-CALNAME;VALUE=TEXT:¹Ú·Q¨Ï¤H¥Íµo¥ú¡AÂà­ÓÅs¡A®üÁï¤ÑªÅ
VERSION:2.0
METHOD:PUBLISH
BEGIN:VTIMEZONE
TZID:GMT
BEGIN:STANDARD
DTSTART:19390101T000000
TZOFFSETFROM:+0000
TZOFFSETTO:+0000
TZNAME:GMT
END:STANDARD
END:VTIMEZONE
BEGIN:VEVENT
DTSTART;VALUE=DATE:20080505
DTEND;VALUE=DATE:20080506
LOCATION:
TRANSP:OPAQUE
SEQUENCE:0
UID:pical060-68a9419a8f8be0ca7e2e684985b7896d
DTSTAMP:20071226T134927Z
CATEGORIES:
DESCRIPTION:
SUMMARY:¹Ú·Q¨Ï¤H¥Íµo¥ú¡AÂà­ÓÅs¡A®üÁï¤ÑªÅ
RRULE:FREQ=YEARLY;INTERVAL=1;BYMONTH=5;WKST=SU
PRIORITY:0
CLASS:PUBLIC
END:VEVENT
END:VCALENDAR
