BEGIN:VCALENDAR
CALSCALE:GREGORIAN
X-WR-TIMEZONE;VALUE=TEXT:GMT
PRODID:PEAK Corporation - piCal -
X-WR-CALNAME;VALUE=TEXT:»â¹DªÌ¦³¨â¶µ¯S½è¡G­º¥ý¡A¥Lªº¥Ø¼Ð¤w©w¡F¨ä¦¸¡A¥L¦³¯à¤O»¡ªA§O¤H»P¥L¦P¦æ¡C
VERSION:2.0
METHOD:PUBLISH
BEGIN:VTIMEZONE
TZID:GMT
BEGIN:STANDARD
DTSTART:19390101T000000
TZOFFSETFROM:+0000
TZOFFSETTO:+0000
TZNAME:GMT
END:STANDARD
END:VTIMEZONE
BEGIN:VEVENT
DTSTART;VALUE=DATE:20080510
DTEND;VALUE=DATE:20080511
LOCATION:
TRANSP:OPAQUE
SEQUENCE:0
UID:pical060-a2832d56ec9c1c9b3735b2fae24781d9
DTSTAMP:20071226T135503Z
CATEGORIES:
DESCRIPTION:
SUMMARY:»â¹DªÌ¦³¨â¶µ¯S½è¡G­º¥ý¡A¥Lªº¥Ø¼Ð¤w©w¡F¨ä¦¸¡A¥L¦³¯à¤O»¡ªA§O¤H»P¥L¦P¦æ¡C
RRULE:FREQ=YEARLY;INTERVAL=1;BYMONTH=5;WKST=SU
PRIORITY:0
CLASS:PUBLIC
END:VEVENT
END:VCALENDAR
