BEGIN:VCALENDAR
CALSCALE:GREGORIAN
X-WR-TIMEZONE;VALUE=TEXT:GMT
PRODID:PEAK Corporation - piCal -
X-WR-CALNAME;VALUE=TEXT:°±ªy¦b´äÆW¸Ì©TµM¦w¥þ¡A¨º«o¤£¬O³y²îªº¥Øªº
VERSION:2.0
METHOD:PUBLISH
BEGIN:VTIMEZONE
TZID:GMT
BEGIN:STANDARD
DTSTART:19390101T000000
TZOFFSETFROM:+0000
TZOFFSETTO:+0000
TZNAME:GMT
END:STANDARD
END:VTIMEZONE
BEGIN:VEVENT
DTSTART;VALUE=DATE:20080512
DTEND;VALUE=DATE:20080513
LOCATION:
TRANSP:OPAQUE
SEQUENCE:0
UID:pical060-4047466c3795cfd7d2e551b13ca47684
DTSTAMP:20071226T135805Z
CATEGORIES:
DESCRIPTION:
SUMMARY:°±ªy¦b´äÆW¸Ì©TµM¦w¥þ¡A¨º«o¤£¬O³y²îªº¥Øªº
RRULE:FREQ=YEARLY;INTERVAL=1;BYMONTH=5;WKST=SU
PRIORITY:0
CLASS:PUBLIC
END:VEVENT
END:VCALENDAR
