BEGIN:VCALENDAR
CALSCALE:GREGORIAN
X-WR-TIMEZONE;VALUE=TEXT:GMT
PRODID:PEAK Corporation - piCal -
X-WR-CALNAME;VALUE=TEXT:¹ï¦n«ä¯ÁªÌ¦Ó¨¥¡A¥Í©R¬O³ß¼@¡F¹ï¥u¾Ì·PÄ±ªº¤H¦Ó¨¥¡A¥Í©R¬O´d¼@
VERSION:2.0
METHOD:PUBLISH
BEGIN:VTIMEZONE
TZID:GMT
BEGIN:STANDARD
DTSTART:19390101T000000
TZOFFSETFROM:+0000
TZOFFSETTO:+0000
TZNAME:GMT
END:STANDARD
END:VTIMEZONE
BEGIN:VEVENT
DTSTART;VALUE=DATE:20080515
DTEND;VALUE=DATE:20080516
LOCATION:
TRANSP:OPAQUE
SEQUENCE:0
UID:pical060-238540d7dfd5197acf7ee5e57878c98b
DTSTAMP:20071226T150740Z
CATEGORIES:
DESCRIPTION:
SUMMARY:¹ï¦n«ä¯ÁªÌ¦Ó¨¥¡A¥Í©R¬O³ß¼@¡F¹ï¥u¾Ì·PÄ±ªº¤H¦Ó¨¥¡A¥Í©R¬O´d¼@
RRULE:FREQ=YEARLY;INTERVAL=1;BYMONTH=5;WKST=SU
PRIORITY:0
CLASS:PUBLIC
END:VEVENT
END:VCALENDAR
