BEGIN:VCALENDAR
CALSCALE:GREGORIAN
X-WR-TIMEZONE;VALUE=TEXT:GMT
PRODID:PEAK Corporation - piCal -
X-WR-CALNAME;VALUE=TEXT:³o®°ªùÃö¤F¡A¥ý¤£­n¦Ç¤ß¡AÁÙ·|¦³¥t¤@®°ªù¬°§A¶}±Ò
VERSION:2.0
METHOD:PUBLISH
BEGIN:VTIMEZONE
TZID:GMT
BEGIN:STANDARD
DTSTART:19390101T000000
TZOFFSETFROM:+0000
TZOFFSETTO:+0000
TZNAME:GMT
END:STANDARD
END:VTIMEZONE
BEGIN:VEVENT
DTSTART;VALUE=DATE:20080516
DTEND;VALUE=DATE:20080517
LOCATION:
TRANSP:OPAQUE
SEQUENCE:0
UID:pical060-1b451f60fa688e08f9af7403fe49bd27
DTSTAMP:20071226T150923Z
CATEGORIES:
DESCRIPTION:
SUMMARY:³o®°ªùÃö¤F¡A¥ý¤£­n¦Ç¤ß¡AÁÙ·|¦³¥t¤@®°ªù¬°§A¶}±Ò
RRULE:FREQ=YEARLY;INTERVAL=1;BYMONTH=5;WKST=SU
PRIORITY:0
CLASS:PUBLIC
END:VEVENT
END:VCALENDAR
