BEGIN:VCALENDAR
CALSCALE:GREGORIAN
X-WR-TIMEZONE;VALUE=TEXT:GMT
PRODID:PEAK Corporation - piCal -
X-WR-CALNAME;VALUE=TEXT:µL¤H¦b³õªº±¡¹Ò¡A³Ì¯à¬}¹î¤Hªº¥»©Ê
VERSION:2.0
METHOD:PUBLISH
BEGIN:VTIMEZONE
TZID:GMT
BEGIN:STANDARD
DTSTART:19390101T000000
TZOFFSETFROM:+0000
TZOFFSETTO:+0000
TZNAME:GMT
END:STANDARD
END:VTIMEZONE
BEGIN:VEVENT
DTSTART;VALUE=DATE:20080519
DTEND;VALUE=DATE:20080520
LOCATION:
TRANSP:OPAQUE
SEQUENCE:0
UID:pical060-0c449c0a1466dc1add1bb19b4ab977d8
DTSTAMP:20071226T151123Z
CATEGORIES:
DESCRIPTION:
SUMMARY:µL¤H¦b³õªº±¡¹Ò¡A³Ì¯à¬}¹î¤Hªº¥»©Ê
RRULE:FREQ=YEARLY;INTERVAL=1;BYMONTH=5;WKST=SU
PRIORITY:0
CLASS:PUBLIC
END:VEVENT
END:VCALENDAR
