BEGIN:VCALENDAR
CALSCALE:GREGORIAN
X-WR-TIMEZONE;VALUE=TEXT:GMT
PRODID:PEAK Corporation - piCal -
X-WR-CALNAME;VALUE=TEXT:¼e®¤¬O¤@ºØ©Ó»{¦Û¤v¤]·|©M¥L¤H¤@¼Ë¥Ç¿ùªº¦æ¬°
VERSION:2.0
METHOD:PUBLISH
BEGIN:VTIMEZONE
TZID:GMT
BEGIN:STANDARD
DTSTART:19390101T000000
TZOFFSETFROM:+0000
TZOFFSETTO:+0000
TZNAME:GMT
END:STANDARD
END:VTIMEZONE
BEGIN:VEVENT
DTSTART;VALUE=DATE:20080520
DTEND;VALUE=DATE:20080521
LOCATION:
TRANSP:OPAQUE
SEQUENCE:0
UID:pical060-a2fd071284a4dab05d3808ebc130ba97
DTSTAMP:20071226T151205Z
CATEGORIES:
DESCRIPTION:
SUMMARY:¼e®¤¬O¤@ºØ©Ó»{¦Û¤v¤]·|©M¥L¤H¤@¼Ë¥Ç¿ùªº¦æ¬°
RRULE:FREQ=YEARLY;INTERVAL=1;BYMONTH=5;WKST=SU
PRIORITY:0
CLASS:PUBLIC
END:VEVENT
END:VCALENDAR
