BEGIN:VCALENDAR
CALSCALE:GREGORIAN
X-WR-TIMEZONE;VALUE=TEXT:GMT
PRODID:PEAK Corporation - piCal -
X-WR-CALNAME;VALUE=TEXT:°µ±o¦h¡A°µ±o§Ö¡A¤£µ¥©ó°µ±o¹ï
VERSION:2.0
METHOD:PUBLISH
BEGIN:VTIMEZONE
TZID:GMT
BEGIN:STANDARD
DTSTART:19390101T000000
TZOFFSETFROM:+0000
TZOFFSETTO:+0000
TZNAME:GMT
END:STANDARD
END:VTIMEZONE
BEGIN:VEVENT
DTSTART;VALUE=DATE:20080521
DTEND;VALUE=DATE:20080522
LOCATION:
TRANSP:OPAQUE
SEQUENCE:0
UID:pical060-c08b8d6480206c51c94c5eb6bf59a67a
DTSTAMP:20071226T151238Z
CATEGORIES:
DESCRIPTION:
SUMMARY:°µ±o¦h¡A°µ±o§Ö¡A¤£µ¥©ó°µ±o¹ï
RRULE:FREQ=YEARLY;INTERVAL=1;BYMONTH=5;WKST=SU
PRIORITY:0
CLASS:PUBLIC
END:VEVENT
END:VCALENDAR
