BEGIN:VCALENDAR
CALSCALE:GREGORIAN
X-WR-TIMEZONE;VALUE=TEXT:GMT
PRODID:PEAK Corporation - piCal -
X-WR-CALNAME;VALUE=TEXT:¤£¥Î¬°¼Ò½k¤£²Mªº¥¼¨Ó¾á¼~¡A¥u­n²M²M·¡·¡ªº¬°²{¦b§V¤O
VERSION:2.0
METHOD:PUBLISH
BEGIN:VTIMEZONE
TZID:GMT
BEGIN:STANDARD
DTSTART:19390101T000000
TZOFFSETFROM:+0000
TZOFFSETTO:+0000
TZNAME:GMT
END:STANDARD
END:VTIMEZONE
BEGIN:VEVENT
DTSTART;VALUE=DATE:20080522
DTEND;VALUE=DATE:20080523
LOCATION:
TRANSP:OPAQUE
SEQUENCE:0
UID:pical060-b28183daa71955e1286e24bbc62b2fe2
DTSTAMP:20071226T151304Z
CATEGORIES:
DESCRIPTION:
SUMMARY:¤£¥Î¬°¼Ò½k¤£²Mªº¥¼¨Ó¾á¼~¡A¥u­n²M²M·¡·¡ªº¬°²{¦b§V¤O
RRULE:FREQ=YEARLY;INTERVAL=1;BYMONTH=5;WKST=SU
PRIORITY:0
CLASS:PUBLIC
END:VEVENT
END:VCALENDAR
