BEGIN:VCALENDAR
CALSCALE:GREGORIAN
X-WR-TIMEZONE;VALUE=TEXT:GMT
PRODID:PEAK Corporation - piCal -
X-WR-CALNAME;VALUE=TEXT:¯à¥R¥÷³Ó¥ôÂ¾·~­n¨Dªº¤H¡A¥Ã»·¤£¥²¾á¤ß§ä¤£¨ì¤u§@¡]³Ç¦ò»¹¡^
VERSION:2.0
METHOD:PUBLISH
BEGIN:VTIMEZONE
TZID:GMT
BEGIN:STANDARD
DTSTART:19390101T000000
TZOFFSETFROM:+0000
TZOFFSETTO:+0000
TZNAME:GMT
END:STANDARD
END:VTIMEZONE
BEGIN:VEVENT
DTSTART;VALUE=DATE:20080525
DTEND;VALUE=DATE:20080526
LOCATION:
TRANSP:OPAQUE
SEQUENCE:0
UID:pical060-eaeb6db641e861704dd4518cd8a347a5
DTSTAMP:20071226T151510Z
CATEGORIES:
DESCRIPTION:
SUMMARY:¯à¥R¥÷³Ó¥ôÂ¾·~­n¨Dªº¤H¡A¥Ã»·¤£¥²¾á¤ß§ä¤£¨ì¤u§@¡]³Ç¦ò»¹¡^
RRULE:FREQ=YEARLY;INTERVAL=1;BYMONTH=5;WKST=SU
PRIORITY:0
CLASS:PUBLIC
END:VEVENT
END:VCALENDAR
