BEGIN:VCALENDAR
CALSCALE:GREGORIAN
X-WR-TIMEZONE;VALUE=TEXT:GMT
PRODID:PEAK Corporation - piCal -
X-WR-CALNAME;VALUE=TEXT:½Ö³£·|³d©Ç§O¤H¡A¥u¦³±M®aÀ´±o¸Ø¼úÆg´­
VERSION:2.0
METHOD:PUBLISH
BEGIN:VTIMEZONE
TZID:GMT
BEGIN:STANDARD
DTSTART:19390101T000000
TZOFFSETFROM:+0000
TZOFFSETTO:+0000
TZNAME:GMT
END:STANDARD
END:VTIMEZONE
BEGIN:VEVENT
DTSTART;VALUE=DATE:20080526
DTEND;VALUE=DATE:20080527
LOCATION:
TRANSP:OPAQUE
SEQUENCE:0
UID:pical060-549eb683be5c15bbcc471de65da59f86
DTSTAMP:20071226T151556Z
CATEGORIES:
DESCRIPTION:
SUMMARY:½Ö³£·|³d©Ç§O¤H¡A¥u¦³±M®aÀ´±o¸Ø¼úÆg´­
RRULE:FREQ=YEARLY;INTERVAL=1;BYMONTH=5;WKST=SU
PRIORITY:0
CLASS:PUBLIC
END:VEVENT
END:VCALENDAR
