BEGIN:VCALENDAR
CALSCALE:GREGORIAN
X-WR-TIMEZONE;VALUE=TEXT:GMT
PRODID:PEAK Corporation - piCal -
X-WR-CALNAME;VALUE=TEXT:¤HÃþ­±Á{ªº³Ì¤j¤Þ»¤¡A¤£¬O³¥¤ß¤Ó¤j¡A¦Ó¬O¦w©ó¥­¤Z
VERSION:2.0
METHOD:PUBLISH
BEGIN:VTIMEZONE
TZID:GMT
BEGIN:STANDARD
DTSTART:19390101T000000
TZOFFSETFROM:+0000
TZOFFSETTO:+0000
TZNAME:GMT
END:STANDARD
END:VTIMEZONE
BEGIN:VEVENT
DTSTART;VALUE=DATE:20080527
DTEND;VALUE=DATE:20080528
LOCATION:
TRANSP:OPAQUE
SEQUENCE:0
UID:pical060-7b9d20046e30e3890eeb16e8400fc583
DTSTAMP:20071226T151626Z
CATEGORIES:
DESCRIPTION:
SUMMARY:¤HÃþ­±Á{ªº³Ì¤j¤Þ»¤¡A¤£¬O³¥¤ß¤Ó¤j¡A¦Ó¬O¦w©ó¥­¤Z
RRULE:FREQ=YEARLY;INTERVAL=1;BYMONTH=5;WKST=SU
PRIORITY:0
CLASS:PUBLIC
END:VEVENT
END:VCALENDAR
