BEGIN:VCALENDAR
CALSCALE:GREGORIAN
X-WR-TIMEZONE;VALUE=TEXT:GMT
PRODID:PEAK Corporation - piCal -
X-WR-CALNAME;VALUE=TEXT:³ÌÀu¨qªº¥DºÞ¤£¶Èª¾¤Hµ½¥ô¡AÁÙ¥²¶·¦Û§Ú¸`¨î¡A¥H§K³¡ÄÝ¿£¤â¿£¸}¡]Ã¹´µºÖÁ`²Î¡^
VERSION:2.0
METHOD:PUBLISH
BEGIN:VTIMEZONE
TZID:GMT
BEGIN:STANDARD
DTSTART:19390101T000000
TZOFFSETFROM:+0000
TZOFFSETTO:+0000
TZNAME:GMT
END:STANDARD
END:VTIMEZONE
BEGIN:VEVENT
DTSTART;VALUE=DATE:20080528
DTEND;VALUE=DATE:20080529
LOCATION:
TRANSP:OPAQUE
SEQUENCE:0
UID:pical060-fc49de3bcd4fc796984ff9b14b3d5aa3
DTSTAMP:20071226T151655Z
CATEGORIES:
DESCRIPTION:
SUMMARY:³ÌÀu¨qªº¥DºÞ¤£¶Èª¾¤Hµ½¥ô¡AÁÙ¥²¶·¦Û§Ú¸`¨î¡A¥H§K³¡ÄÝ¿£¤â¿£¸}¡]Ã¹´µºÖÁ`²Î¡^
RRULE:FREQ=YEARLY;INTERVAL=1;BYMONTH=5;WKST=SU
PRIORITY:0
CLASS:PUBLIC
END:VEVENT
END:VCALENDAR
