BEGIN:VCALENDAR
CALSCALE:GREGORIAN
X-WR-TIMEZONE;VALUE=TEXT:GMT
PRODID:PEAK Corporation - piCal -
X-WR-CALNAME;VALUE=TEXT:¥@¬ÉÄÝ©óºë¤O¥R¨Kªº¤H¡]·RÀq¥Í¡^
VERSION:2.0
METHOD:PUBLISH
BEGIN:VTIMEZONE
TZID:GMT
BEGIN:STANDARD
DTSTART:19390101T000000
TZOFFSETFROM:+0000
TZOFFSETTO:+0000
TZNAME:GMT
END:STANDARD
END:VTIMEZONE
BEGIN:VEVENT
DTSTART;VALUE=DATE:20080529
DTEND;VALUE=DATE:20080530
LOCATION:
TRANSP:OPAQUE
SEQUENCE:0
UID:pical060-a8b4a6aceb0a60dc66e007acadfa5755
DTSTAMP:20071226T151734Z
CATEGORIES:
DESCRIPTION:
SUMMARY:¥@¬ÉÄÝ©óºë¤O¥R¨Kªº¤H¡]·RÀq¥Í¡^
RRULE:FREQ=YEARLY;INTERVAL=1;BYMONTH=5;WKST=SU
PRIORITY:0
CLASS:PUBLIC
END:VEVENT
END:VCALENDAR
