BEGIN:VCALENDAR
CALSCALE:GREGORIAN
X-WR-TIMEZONE;VALUE=TEXT:GMT
PRODID:PEAK Corporation - piCal -
X-WR-CALNAME;VALUE=TEXT:¦³¤H¬Ý¨£²{ª¬¡AÁ`¬O½èºÃ¡u¬°¦ó¦p¦¹¡H¡v§Ú«oÃh©ê¹Ú·Q¡A¸ß°Ý¡u¦³¦ó¤£¥i¡H¡v¡]Ã¹«k¥Ì°i¡^
VERSION:2.0
METHOD:PUBLISH
BEGIN:VTIMEZONE
TZID:GMT
BEGIN:STANDARD
DTSTART:19390101T000000
TZOFFSETFROM:+0000
TZOFFSETTO:+0000
TZNAME:GMT
END:STANDARD
END:VTIMEZONE
BEGIN:VEVENT
DTSTART;VALUE=DATE:20080530
DTEND;VALUE=DATE:20080531
LOCATION:
TRANSP:OPAQUE
SEQUENCE:0
UID:pical060-2a21393ab9d5f2bc2c64d475a0a517c3
DTSTAMP:20071226T151807Z
CATEGORIES:
DESCRIPTION:
SUMMARY:¦³¤H¬Ý¨£²{ª¬¡AÁ`¬O½èºÃ¡u¬°¦ó¦p¦¹¡H¡v§Ú«oÃh©ê¹Ú·Q¡A¸ß°Ý¡u¦³¦ó¤£¥i¡H¡v¡]Ã¹«k¥Ì°i¡^
RRULE:FREQ=YEARLY;INTERVAL=1;BYMONTH=5;WKST=SU
PRIORITY:0
CLASS:PUBLIC
END:VEVENT
END:VCALENDAR
