BEGIN:VCALENDAR
CALSCALE:GREGORIAN
X-WR-TIMEZONE;VALUE=TEXT:GMT
PRODID:PEAK Corporation - piCal -
X-WR-CALNAME;VALUE=TEXT:¹ï¸Ü´N¬O¯à°÷´£¥Xª[¨£¡AÄ~Äò°Q½×¤U¥h
VERSION:2.0
METHOD:PUBLISH
BEGIN:VTIMEZONE
TZID:GMT
BEGIN:STANDARD
DTSTART:19390101T000000
TZOFFSETFROM:+0000
TZOFFSETTO:+0000
TZNAME:GMT
END:STANDARD
END:VTIMEZONE
BEGIN:VEVENT
DTSTART;VALUE=DATE:20080531
DTEND;VALUE=DATE:20080601
LOCATION:
TRANSP:OPAQUE
SEQUENCE:0
UID:pical060-7fef5e579ddc6b42342214728744026e
DTSTAMP:20071226T151837Z
CATEGORIES:
DESCRIPTION:
SUMMARY:¹ï¸Ü´N¬O¯à°÷´£¥Xª[¨£¡AÄ~Äò°Q½×¤U¥h
RRULE:FREQ=YEARLY;INTERVAL=1;BYMONTH=6;WKST=SU
PRIORITY:0
CLASS:PUBLIC
END:VEVENT
END:VCALENDAR
